BEGIN:VCALENDAR
VERSION:2.0
PRODID:-//hacksw/handcal//NONSGML v1.0//EN
BEGIN:VEVENT
DTSTART:20190621T190000
DTEND:20190622T010000
LOCATION:Campus HEP Lyon René Cassin \n7, Rue Jean-Marie Leclair \n69009 LYON
ORGANIZER;CN=Doria MEDJKOUNE:MAILTO:
SUMMARY:L'ISCPA FÊTE SES 20 ANS !
DESCRIPTION:\nL'ISCPA souffle sa 20ème bougie !Diplômés, entreprises partenaires, intervenants et étudiants, venez partager ce moment convivial et festif avec nous. \nAu programme : barbecue, musique et bonne...
URL:https://www.iscpa-alumni.com/fr/event/l-iscpa-fete-ses-20-ans/2019/06/21/61
BEGIN:VALARM
TRIGGER:-P0DT1H0M0S
ACTION:DISPLAY
END:VALARM
END:VEVENT
END:VCALENDAR